BEGIN:VCALENDAR
VERSION:2.0
METHOD:PUBLISH
PRODID:-//imacoda.com//SPD-Web-O-Mat//EN
CALSCALE:GREGORIAN
BEGIN:VTIMEZONE
TZID:Europe/Berlin
BEGIN:DAYLIGHT
TZOFFSETFROM:+0100
RRULE:FREQ=YEARLY;BYMONTH=3;BYDAY=-1SU
DTSTART:19810329T020000
TZNAME:MESZ
TZOFFSETTO:+0200
END:DAYLIGHT
BEGIN:STANDARD
TZOFFSETFROM:+0200
RRULE:FREQ=YEARLY;BYMONTH=10;BYDAY=-1SU
DTSTART:19961027T030000
TZNAME:MEZ
TZOFFSETTO:+0100
END:STANDARD
END:VTIMEZONE
BEGIN:VEVENT
UID:20191005T152650Z-00000485869-LULU@www.bayernspd.de
CREATED:20191005T152650Z
LAST-MODIFIED:20191005T152736Z
DTSTAMP:20191005T152736Z
TRANSP:TRANSPARENT
DTSTART;TZID=Europe/Berlin:20191012T101500
DTEND;TZID=Europe/Berlin:20191012T130000
SUMMARY:Public Viewing - Livestream Regionalkonferenz aus München
LOCATION:Gasthof Schwarzes Roß\, Ansbach-Wasserzell
DESCRIPTION:Termin im Web (SPD-Kreisverband Ansbach-Stadt):\nhttps://spd
 -an.de/termine/?id=485869
END:VEVENT
END:VCALENDAR
